BEGIN:VCALENDAR
VERSION:2.0
PRODID:-//eventon.com NONSGML v1.0//EN
CALSCALE:GREGORIAN
METHOD:PUBLISH
BEGIN:VEVENT
UID:69ea164e930c5
DTSTAMP:20260423T125334Z
DTSTART:20260925T180000Z
DTEND:20260928T030000Z
LOCATION:Cheyenne Frontier Days Arena 4610 Carey Ave
SUMMARY:HNIRC Championship of Champions
DESCRIPTION:HNIRC Championship of Champions\nhttps://horsenationsindianrela
 y.com/events/wind-river-hotel-casino-and-northern-arapaho-tribe-championshi
 p-of-champions/
URL:https://horsenationsindianrelay.com/events/wind-river-hotel-casino-and-northern-arapaho-tribe-championship-of-champions/
END:VEVENT
END:VCALENDAR