BEGIN:VCALENDAR
VERSION:2.0
PRODID:-//eventon.com NONSGML v1.0//EN
CALSCALE:GREGORIAN
METHOD:PUBLISH
BEGIN:VEVENT
UID:69ea165a0709c
DTSTAMP:20260423T125346Z
DTSTART:20260801T170000Z
DTEND:20260802T230000Z
LOCATION:3 Moccasin Park 3 Moccasin Park
SUMMARY:Run with the Warriors
DESCRIPTION:Run with the Warriors\nhttps://horsenationsindianrelay.com/even
 ts/run-with-the-warriors/
URL:https://horsenationsindianrelay.com/events/run-with-the-warriors/
END:VEVENT
END:VCALENDAR