BEGIN:VCALENDAR
VERSION:2.0
PRODID:-//eventon.com NONSGML v1.0//EN
CALSCALE:GREGORIAN
METHOD:PUBLISH
BEGIN:VEVENT
UID:69ea164e8180d
DTSTAMP:20260423T125334Z
DTSTART:20260620T180000Z
DTEND:20260622T020000Z
LOCATION:Phillips County Fairgrounds  N Barrett Ave
SUMMARY:Hi-Line Relay
DESCRIPTION:Hi-Line Relay\nhttps://horsenationsindianrelay.com/events/hi-li
 ne-relay/
URL:https://horsenationsindianrelay.com/events/hi-line-relay/
END:VEVENT
END:VCALENDAR