BEGIN:VCALENDAR
VERSION:2.0
PRODID:-//eventon.com NONSGML v1.0//EN
CALSCALE:GREGORIAN
METHOD:PUBLISH
BEGIN:VEVENT
UID:69ea16bae41fd
DTSTAMP:20260423T125522Z
DTSTART:20260912T160000Z
DTEND:20260913T040000Z
LOCATION:Okanogan County Fairgrounds 175 Rodeo Trl Rd
SUMMARY:Okanogan County Fair
DESCRIPTION:\nhttps://horsenationsindianrelay.com/events/okanogan-county-fa
 ir/
URL:https://horsenationsindianrelay.com/events/okanogan-county-fair/
END:VEVENT
END:VCALENDAR