BEGIN:VCALENDAR
VERSION:2.0
PRODID:-//eventon.com NONSGML v1.0//EN
CALSCALE:GREGORIAN
METHOD:PUBLISH
BEGIN:VEVENT
UID:69ea16bb1fef1
DTSTAMP:20260423T125523Z
DTSTART:20260703T160000Z
DTEND:20260704T040000Z
LOCATION:Fort Hall Rodeo Grounds
SUMMARY:Treaty Days
DESCRIPTION:\nhttps://horsenationsindianrelay.com/events/treaty-days/
URL:https://horsenationsindianrelay.com/events/treaty-days/
END:VEVENT
END:VCALENDAR