BEGIN:VCALENDAR
VERSION:2.0
PRODID:-//eventon.com NONSGML v1.0//EN
CALSCALE:GREGORIAN
METHOD:PUBLISH
BEGIN:VEVENT
UID:69ea16a696c18
DTSTAMP:20260423T125502Z
DTSTART:20260626T230000Z
DTEND:20260626T210000Z
LOCATION:White River Powwow Grounds and Racetrack
SUMMARY:White River Days 150th Celebration
DESCRIPTION:\nhttps://horsenationsindianrelay.com/events/white-river-days-1
 50th-celebration/
URL:https://horsenationsindianrelay.com/events/white-river-days-150th-celebration/
END:VEVENT
END:VCALENDAR