BEGIN:VCALENDAR
VERSION:2.0
PRODID:-//eventon.com NONSGML v1.0//EN
CALSCALE:GREGORIAN
METHOD:PUBLISH
BEGIN:VEVENT
UID:69ea16b735297
DTSTAMP:20260423T125519Z
DTSTART:20260829T160000Z
DTEND:20260831T020000Z
LOCATION:
SUMMARY: NCYW FAIR
DESCRIPTION:\nhttps://horsenationsindianrelay.com/events/ncyw-fair/
URL:https://horsenationsindianrelay.com/events/ncyw-fair/
END:VEVENT
END:VCALENDAR