BEGIN:VCALENDAR
VERSION:2.0
PRODID:-//eventon.com NONSGML v1.0//EN
CALSCALE:GREGORIAN
METHOD:PUBLISH
BEGIN:VEVENT
UID:69eb669e7e895
DTSTAMP:20260424T124830Z
DTSTART:20260930T051500Z
DTEND:20261001T051500Z
LOCATION:
SUMMARY:NCW Fair
DESCRIPTION:\nhttps://horsenationsindianrelay.com/events/ncw-fair/
URL:https://horsenationsindianrelay.com/events/ncw-fair/
END:VEVENT
END:VCALENDAR