BEGIN:VCALENDAR
VERSION:2.0
PRODID:-//eventon.com NONSGML v1.0//EN
CALSCALE:GREGORIAN
METHOD:PUBLISH
BEGIN:VEVENT
UID:69ea164f7cd23
DTSTAMP:20260423T125335Z
DTSTART:20260703T170000Z
DTEND:20260713T020000Z
LOCATION:Stampede Park 650 25 Ave SE
SUMMARY:Calgary Stampede
DESCRIPTION:Calgary Stampede\nhttps://horsenationsindianrelay.com/events/in
 dian-relay-races/
URL:https://horsenationsindianrelay.com/events/indian-relay-races/
END:VEVENT
END:VCALENDAR