BEGIN:VCALENDAR
VERSION:2.0
PRODID:-//eventon.com NONSGML v1.0//EN
CALSCALE:GREGORIAN
METHOD:PUBLISH
BEGIN:VEVENT
UID:69ea16a51abc6
DTSTAMP:20260423T125501Z
DTSTART:20260912T160000Z
DTEND:20260913T230000Z
LOCATION:Chippewa Downs 42nd Avenue Northeast
SUMMARY:Turtle Mountain Indian Horse Relay
DESCRIPTION:\nhttps://horsenationsindianrelay.com/events/turtle-mountain-in
 dian-horse-relay/
URL:https://horsenationsindianrelay.com/events/turtle-mountain-indian-horse-relay/
END:VEVENT
END:VCALENDAR