BEGIN:VCALENDAR
VERSION:2.0
PRODID:-//eventon.com NONSGML v1.0//EN
CALSCALE:GREGORIAN
METHOD:PUBLISH
BEGIN:VEVENT
UID:69ea16594d72b
DTSTAMP:20260423T125345Z
DTSTART:20260711T170000Z
DTEND:20260712T230000Z
LOCATION:Wyoming Downs 10180 Hwy 89 North
SUMMARY:Wyoming Downs
DESCRIPTION:Wyoming Downs\nhttps://horsenationsindianrelay.com/events/wyomi
 ng-downs/
URL:https://horsenationsindianrelay.com/events/wyoming-downs/
END:VEVENT
END:VCALENDAR