BEGIN:VCALENDAR
VERSION:2.0
PRODID:-//eventon.com NONSGML v1.0//EN
CALSCALE:GREGORIAN
METHOD:PUBLISH
BEGIN:VEVENT
UID:69ea165947ef6
DTSTAMP:20260423T125345Z
DTSTART:20260808T200000Z
DTEND:20260809T200000Z
LOCATION:Lower Brule Pow Wow Grounds BIA Rd 21
SUMMARY:Lower Brule Races
DESCRIPTION:Lower Brule Races\nhttps://horsenationsindianrelay.com/events/l
 ower-brule-races/
URL:https://horsenationsindianrelay.com/events/lower-brule-races/
END:VEVENT
END:VCALENDAR