BEGIN:VCALENDAR
VERSION:2.0
PRODID:-//eventon.com NONSGML v1.0//EN
CALSCALE:GREGORIAN
METHOD:PUBLISH
BEGIN:VEVENT
UID:69ec9a5f427fd
DTSTAMP:20260425T104135Z
DTSTART:20260613T160000Z
DTEND:20260614T020000Z
LOCATION:Stampede Park 650 25 Ave SE
SUMMARY:Calgary Stampede First Nations Rodeo & Relay
DESCRIPTION:Calgary Stampede First Nations Rodeo &amp; Relay\nhttps://horse
 nationsindianrelay.com/events/rotary-convention/
URL:https://horsenationsindianrelay.com/events/rotary-convention/
END:VEVENT
END:VCALENDAR