BEGIN:VCALENDAR
VERSION:2.0
PRODID:-//eventon.com NONSGML v1.0//EN
CALSCALE:GREGORIAN
METHOD:PUBLISH
BEGIN:VEVENT
UID:69ec9c36b562b
DTSTAMP:20260425T104926Z
DTSTART:20260917T000000Z
DTEND:20260919T230000Z
LOCATION:Pendleton Roundup 1205 SW Court Ave
SUMMARY:Pendleton Round-up
DESCRIPTION:Pendleton Round-up\nhttps://horsenationsindianrelay.com/events/
 pendleton-roundup/
URL:https://horsenationsindianrelay.com/events/pendleton-roundup/
END:VEVENT
END:VCALENDAR