BEGIN:VCALENDAR
VERSION:2.0
PRODID:-//eventon.com NONSGML v1.0//EN
CALSCALE:GREGORIAN
METHOD:PUBLISH
BEGIN:VEVENT
UID:69ea16bbe3b39
DTSTAMP:20260423T125523Z
DTSTART:20260801T180000Z
DTEND:20260803T020000Z
LOCATION:Phillips County Fairgrounds  N Barrett Ave
SUMMARY:Phillips County Fair
DESCRIPTION:Phillips County Fair\nhttps://horsenationsindianrelay.com/event
 s/phillips-county-fair/
URL:https://horsenationsindianrelay.com/events/phillips-county-fair/
END:VEVENT
END:VCALENDAR